BEGIN:VCALENDAR
PRODID:-//github.com/rianjs/ical.net//NONSGML ical.net 4.0//EN
VERSION:2.0
BEGIN:VEVENT
DESCRIPTION:Eine Radtour der Stadtteilgruppe Wuhletal. Naturschutz in Hell
 ersdorf. Wir besuchen drei Orte und hören Vorträge\, wie es um die Nature
 rlebnisse im Bezirk steht.\nhttps://touren-termine.adfc.de/radveranstaltu
 ng/171532-kieztour-naturschutz-im-wuhletal
DTEND:20250907T150000Z
DTSTAMP:20260421T233422Z
DTSTART:20250907T113000Z
LOCATION:Alice-Salomon-Platz\, 12627 Berlin
SEQUENCE:0
SUMMARY:Kieztour - Naturschutz im Wuhletal
UID:85417715-39a7-48e2-b5c9-94f426ce8b48
URL:https://touren-termine.adfc.de/radveranstaltung/171532-kieztour-naturs
 chutz-im-wuhletal
END:VEVENT
END:VCALENDAR
