BEGIN:VCALENDAR
PRODID:-//github.com/rianjs/ical.net//NONSGML ical.net 4.0//EN
VERSION:2.0
BEGIN:VEVENT
DESCRIPTION:Wir umrunden die Regatta Strecke auf der Dove Elbe und besuche
 n den NABU Familientag der Vogelstation Die Reit\nhttps://touren-termine.
 adfc.de/radveranstaltung/170124-regatta-runde-dove-elbe
DTEND:20250907T130000Z
DTSTAMP:20260420T231121Z
DTSTART:20250907T090000Z
LOCATION:Vor der Kreuzkirche Kedenburgstraße 10\, 22041 Hamburg
SEQUENCE:0
SUMMARY:Regatta Runde Dove Elbe
UID:da40a8c5-bbfa-401b-b74d-2eae805eca63
URL:https://touren-termine.adfc.de/radveranstaltung/170124-regatta-runde-d
 ove-elbe
END:VEVENT
END:VCALENDAR
