BEGIN:VCALENDAR
PRODID:-//github.com/rianjs/ical.net//NONSGML ical.net 4.0//EN
VERSION:2.0
BEGIN:VEVENT
DESCRIPTION:Unterwegs halten wir auf 4 Bio-Höfen\, die sich jeweils kurz v
 orstellen. (Gastourleiter Harald Haun)\nhttps://touren-termine.adfc.de/ra
 dveranstaltung/193388-biohofetour
DTEND:20260906T140000Z
DTSTAMP:20260421T234630Z
DTSTART:20260906T080000Z
LOCATION:Südenwall 19\, 59065 Hamm
SEQUENCE:0
SUMMARY:Biohöfe-Tour
UID:4eb5ed9d-db58-402a-8d67-f2205efcebb4
URL:https://touren-termine.adfc.de/radveranstaltung/193388-biohofetour
END:VEVENT
END:VCALENDAR
