BEGIN:VCALENDAR
PRODID:-//github.com/rianjs/ical.net//NONSGML ical.net 4.0//EN
VERSION:2.0
BEGIN:VEVENT
DESCRIPTION:Zum Auftakt der diesjährigen Stadtradelwochen (25. Mai - 14. J
 uni) bietet der Landkreis Oberhavel unter Leitung des ADFC Oranienburg ei
 ne rund 50km lange Radtour in den Nachbarkreis an.\nhttps://touren-termin
 e.adfc.de/radveranstaltung/165293-aktion-stadtradeln-auftakttour-in-den-b
 arnim
DTEND:20250525T140000Z
DTSTAMP:20260425T232313Z
DTSTART:20250525T080000Z
LOCATION:Bahnhofsplatz\, 16515 Oranienburg
SEQUENCE:0
SUMMARY:Aktion Stadtradeln: Auftakttour in den Barnim
UID:71c898ef-23d0-4b9e-af75-50c9e417329c
URL:https://touren-termine.adfc.de/radveranstaltung/165293-aktion-stadtrad
 eln-auftakttour-in-den-barnim
END:VEVENT
END:VCALENDAR
