BEGIN:VCALENDAR
PRODID:-//github.com/rianjs/ical.net//NONSGML ical.net 4.0//EN
VERSION:2.0
BEGIN:VEVENT
DESCRIPTION:Ab Trebbin auf einsamen Wegen durch kleine Dörfer im Nuthe-Urs
 tromtal. Feinster Asphalt auf dem Fläming-Skate. Besuch der Klosterkirche
  Zinna und weiter zum Ziel Jüterbog. Ohne Anmeldepflicht.\nhttps://touren
 -termine.adfc.de/radveranstaltung/166022-nutheurstromtal-und-flamingskate
DTEND:20250719T153000Z
DTSTAMP:20260424T203049Z
DTSTART:20250719T080000Z
LOCATION:Bhf. Berlin Südkreuz\, Ringbahnsteig\, 12101 Berlin\, Tempelhof
SEQUENCE:0
SUMMARY:Nuthe-Urstromtal und Fläming-Skate
UID:16535139-ca67-4b8a-8baf-07024e1b2b3b
URL:https://touren-termine.adfc.de/radveranstaltung/166022-nutheurstromtal
 -und-flamingskate
END:VEVENT
END:VCALENDAR
