BEGIN:VCALENDAR
PRODID:-//github.com/rianjs/ical.net//NONSGML ical.net 4.0//EN
VERSION:2.0
BEGIN:VEVENT
DESCRIPTION:ÄNDERUNG: Nach Groß-Umstadt  ins Restaurant via Toni. Anmeldun
 g notwendig.\nhttps://touren-termine.adfc.de/radveranstaltung/144577-nach
 -hetschbach-bei-hochst
DTEND:20250824T153000Z
DTSTAMP:20260423T153953Z
DTSTART:20250824T073000Z
LOCATION:Lindenplatz\, 63303 Sprendlingen
SEQUENCE:0
SUMMARY:Nach Hetschbach bei Höchst
UID:d8582847-c9ae-4702-916c-16c232ff3585
URL:https://touren-termine.adfc.de/radveranstaltung/144577-nach-hetschbach
 -bei-hochst
END:VEVENT
END:VCALENDAR
