BEGIN:VCALENDAR
PRODID:-//github.com/rianjs/ical.net//NONSGML ical.net 4.0//EN
VERSION:2.0
BEGIN:VEVENT
DESCRIPTION:In Siegen hinten in der Fludersbach gibt es einen Friedhof mit
  Gräbern von Zwangsarbeitern aus der Zeit des 2. Weltkriegs.\nKurze Tour 
 auch für Bio-Biler\nhttps://touren-termine.adfc.de/radveranstaltung/19078
 3-fahrt-zum-zwangsarbeiterfriedhof-fludersbach
DTEND:20260512T170000Z
DTSTAMP:20260420T082815Z
DTSTART:20260512T160000Z
LOCATION:Jakob-Scheiner-Platz\, 57072 Siegen
SEQUENCE:0
SUMMARY:Fahrt zum Zwangsarbeiterfriedhof Fludersbach
UID:31be27d8-e861-43eb-bd74-74916fd45319
URL:https://touren-termine.adfc.de/radveranstaltung/190783-fahrt-zum-zwang
 sarbeiterfriedhof-fludersbach
END:VEVENT
END:VCALENDAR
