BEGIN:VCALENDAR
PRODID:-//github.com/rianjs/ical.net//NONSGML ical.net 4.0//EN
VERSION:2.0
BEGIN:VEVENT
DESCRIPTION:Diese Rundtour ab Dorfen führt uns ins „Land am Inn“ bei Mühld
 orf.\nhttps://touren-termine.adfc.de/radveranstaltung/184624-tour-ins-lan
 d-am-inn-bei-muhldorf
DTEND:20260718T150000Z
DTSTAMP:20260420T083254Z
DTSTART:20260718T070000Z
LOCATION:Unterer Marktplatz\, 84405 Dorfen
SEQUENCE:0
SUMMARY:Tour ins „Land am Inn“ bei Mühldorf
UID:77d082d1-94ea-44ec-a12c-7d4093324b54
URL:https://touren-termine.adfc.de/radveranstaltung/184624-tour-ins-land-a
 m-inn-bei-muhldorf
END:VEVENT
END:VCALENDAR
