BEGIN:VCALENDAR
PRODID:-//github.com/rianjs/ical.net//NONSGML ical.net 4.0//EN
VERSION:2.0
BEGIN:VEVENT
DESCRIPTION:Jeden Montag findet morgens eine Radtour statt.\nhttps://toure
 n-termine.adfc.de/radveranstaltung/132065-montag-morgen-tour
DTEND:20240513T100000Z
DTSTAMP:20260423T201807Z
DTSTART:20240513T080000Z
LOCATION:In der Ahe 29\, 27356 Rotenburg
SEQUENCE:0
SUMMARY:Montag Morgen Tour
UID:f64afbb7-1fc8-4a4b-99db-97bc4e201779
URL:https://touren-termine.adfc.de/radveranstaltung/132065-montag-morgen-t
 our
END:VEVENT
END:VCALENDAR
