BEGIN:VCALENDAR
PRODID:-//github.com/rianjs/ical.net//NONSGML ical.net 4.0//EN
VERSION:2.0
BEGIN:VEVENT
DESCRIPTION:Mehr Sicherheit für den Radverkehr durch StVO konforme Seitena
 bstände beim Überholen durch Kraftfahrzeuge\nhttps://touren-termine.adfc.
 de/radveranstaltung/117239-projektgruppe-openbikesensor
DTEND:20240311T190000Z
DTSTAMP:20260420T231139Z
DTSTART:20240311T173000Z
LOCATION:Koppel 34-36\, 20099 Hamburg
SEQUENCE:0
SUMMARY:Projektgruppe OpenBikeSensor
UID:dddda78f-41e9-4ff2-b491-ce77f0fb5228
URL:https://touren-termine.adfc.de/radveranstaltung/117239-projektgruppe-o
 penbikesensor
END:VEVENT
END:VCALENDAR
