BEGIN:VCALENDAR
PRODID:-//github.com/rianjs/ical.net//NONSGML ical.net 4.0//EN
VERSION:2.0
BEGIN:VEVENT
DESCRIPTION:Wir radeln eine gemütliche Runde zu verschiedenen Zielen in de
 r Stadt und genießen dabei Hamburg-Flair\, Natur und Adfc-Geselligkeit. \
 nNicht bei Regenwetter.\nhttps://touren-termine.adfc.de/radveranstaltung/
 129423-wandsbeker-feierabendcruise
DTEND:20240516T183000Z
DTSTAMP:20260420T230640Z
DTSTART:20240516T163000Z
LOCATION:Liegewiese im Eichtalpark mit ovaler Skulptur\, 22041 Hamburg\, W
 andsbek
SEQUENCE:0
SUMMARY:Wandsbeker Feierabendcruise
UID:25c6d090-6ab9-4a40-ab19-130f85f0f527
URL:https://touren-termine.adfc.de/radveranstaltung/129423-wandsbeker-feie
 rabendcruise
END:VEVENT
END:VCALENDAR
