BEGIN:VCALENDAR
PRODID:-//github.com/rianjs/ical.net//NONSGML ical.net 4.0//EN
VERSION:2.0
BEGIN:VEVENT
DESCRIPTION:Öffentlicher Stammtisch des Kreisverbandes Kempten-Oberallgäu\
 nhttps://touren-termine.adfc.de/radveranstaltung/184642-radlerstammtisch-
 in-kempten
DTEND:20261119T210000Z
DTSTAMP:20260424T151545Z
DTSTART:20261119T190000Z
LOCATION:swoboda alpin\, Aybühlweg 69\, 87439 Kempten (Allgäu)
SEQUENCE:0
SUMMARY:Radlerstammtisch in Kempten
UID:4e974a7c-591b-41dd-9b2a-a695802d459d
URL:https://touren-termine.adfc.de/radveranstaltung/184642-radlerstammtisc
 h-in-kempten
END:VEVENT
END:VCALENDAR
