BEGIN:VCALENDAR
PRODID:-//github.com/rianjs/ical.net//NONSGML ical.net 4.0//EN
VERSION:2.0
BEGIN:VEVENT
DESCRIPTION:Die Feierabendtouren finden in Dorfen alle 14 Tage immer mittw
 ochs mit einer Streckenlänge von 25 bis 35 km ins Dorfener Umland statt.\
 nhttps://touren-termine.adfc.de/radveranstaltung/184804-feierabendtouren-
 ab-dorfen
DTEND:20260513T183000Z
DTSTAMP:20260420T082947Z
DTSTART:20260513T163000Z
LOCATION:Unterer Markt\, 84405 Dorfen
SEQUENCE:0
SUMMARY:Feierabend-Touren ab Dorfen
UID:bc4d88f4-726c-44ae-b057-497f50ccea1e
URL:https://touren-termine.adfc.de/radveranstaltung/184804-feierabendtoure
 n-ab-dorfen
END:VEVENT
END:VCALENDAR
