BEGIN:VCALENDAR
PRODID:-//github.com/rianjs/ical.net//NONSGML ical.net 4.0//EN
VERSION:2.0
BEGIN:VEVENT
DESCRIPTION:Jeden Montag findet morgens eine Radtour statt.\nhttps://toure
 n-termine.adfc.de/radveranstaltung/198140-montag-morgen-tour
DTEND:20260420T100000Z
DTSTAMP:20260423T200817Z
DTSTART:20260420T080000Z
LOCATION:In der Ahe 29\, 27356 Rotenburg
SEQUENCE:0
SUMMARY:Montag Morgen Tour
UID:6413e675-7302-4811-a0b6-606243fb505e
URL:https://touren-termine.adfc.de/radveranstaltung/198140-montag-morgen-t
 our
END:VEVENT
END:VCALENDAR
