BEGIN:VCALENDAR
PRODID:-//github.com/rianjs/ical.net//NONSGML ical.net 4.0//EN
VERSION:2.0
BEGIN:VEVENT
DESCRIPTION:Entlang der Unteraller nach Jeversen zum Contidrom\, Anmeldesc
 hluss 20.06.2025\nhttps://touren-termine.adfc.de/radveranstaltung/150958-
 die-auen-der-unteraller-anmeldeschluss-20062025
DTEND:20250622T150000Z
DTSTAMP:20260421T114822Z
DTSTART:20250622T080000Z
LOCATION:Herzogin-Eleonore-Allee Französischer Garten Am Teich\, 29221 Cel
 le
SEQUENCE:0
SUMMARY:Die Auen der Unteraller  Anmeldeschluss 20.06.2025
UID:f889d4da-a2b8-4881-95cd-c0bf460e0f9c
URL:https://touren-termine.adfc.de/radveranstaltung/150958-die-auen-der-un
 teraller-anmeldeschluss-20062025
END:VEVENT
END:VCALENDAR
