BEGIN:VCALENDAR
PRODID:-//github.com/rianjs/ical.net//NONSGML ical.net 4.0//EN
VERSION:2.0
BEGIN:VEVENT
DESCRIPTION:Traditionelle Rundtour mit der Märkischen Oder Zeitung (MOZ) v
 on Oranienburg ins Löwenberger Land zum Schloss & Gut Liebenberg\nhttps:/
 /touren-termine.adfc.de/radveranstaltung/123061-tour-de-moz-nach-liebenbe
 rg
DTEND:20240817T143000Z
DTSTAMP:20260425T232206Z
DTSTART:20240817T080000Z
LOCATION:Bahnhof\, 16515 Oranienburg
SEQUENCE:0
SUMMARY:Tour de MOZ nach Liebenberg
UID:f7054745-79ed-4fea-a994-8cfcbf5cff3f
URL:https://touren-termine.adfc.de/radveranstaltung/123061-tour-de-moz-nac
 h-liebenberg
END:VEVENT
END:VCALENDAR
