BEGIN:VCALENDAR
PRODID:-//github.com/rianjs/ical.net//NONSGML ical.net 4.0//EN
VERSION:2.0
BEGIN:VEVENT
DESCRIPTION:SBS Burgwedel\, Gartenstr. 10\, 30938 Großburgwedel\nhttps://t
 ouren-termine.adfc.de/radveranstaltung/192712-offentlicher-radlertreff
DTEND:20260922T190000Z
DTSTAMP:20260423T105831Z
DTSTART:20260922T170000Z
LOCATION:Gartenstraße 10\, 30938 Burgwedel
SEQUENCE:0
SUMMARY:Öffentlicher Radlertreff
UID:500771d0-2d78-40a3-82e1-410e466d6a41
URL:https://touren-termine.adfc.de/radveranstaltung/192712-offentlicher-ra
 dlertreff
END:VEVENT
END:VCALENDAR
