BEGIN:VCALENDAR
PRODID:-//github.com/rianjs/ical.net//NONSGML ical.net 4.0//EN
VERSION:2.0
BEGIN:VEVENT
DESCRIPTION:Regelmäßige Tagestour mit Start in Gauting zu einem naturkundl
 ich\, historisch\, kunsthistorisch oder tagesaktuell interessanten Ziel i
 m Südwesten von München. \nHeute: Zum Schreyegg am Ammersee\nhttps://tour
 en-termine.adfc.de/radveranstaltung/119699-unterwegs-im-sudwesten
DTEND:20240704T150000Z
DTSTAMP:20260425T150458Z
DTSTART:20240704T080000Z
LOCATION:Rathaus\, Bahnhofstraße 7\, 82131 Gauting
SEQUENCE:0
SUMMARY:Unterwegs im Südwesten
UID:9e6c6af9-a1d7-4a31-a658-e3ba54cd8e23
URL:https://touren-termine.adfc.de/radveranstaltung/119699-unterwegs-im-su
 dwesten
END:VEVENT
END:VCALENDAR
