BEGIN:VCALENDAR
PRODID:-//github.com/rianjs/ical.net//NONSGML ical.net 4.0//EN
VERSION:2.0
BEGIN:VEVENT
DESCRIPTION:Zum Tagesausklang radeln wir für zwei bis drei Stunden einschl
 ießlich Einkehr in die nähere Umgebung von Oranienburg.\nhttps://touren-t
 ermine.adfc.de/radveranstaltung/107383-oranienburg-feierabendrundtour
DTEND:20231010T163000Z
DTSTAMP:20260425T201939Z
DTSTART:20231010T140000Z
LOCATION:Bahnhofsplatz Oranienburg\, 16515 Oranienburg
SEQUENCE:0
SUMMARY:Oranienburg Feierabend-Rundtour
UID:ac6bdf36-ad06-41ed-a713-058b85e0e55a
URL:https://touren-termine.adfc.de/radveranstaltung/107383-oranienburg-fei
 erabendrundtour
END:VEVENT
END:VCALENDAR
