BEGIN:VCALENDAR
PRODID:-//github.com/rianjs/ical.net//NONSGML ical.net 4.0//EN
VERSION:2.0
BEGIN:VEVENT
DESCRIPTION:Zum Ausklang der Fahrradsaison radeln wir zum Tister Bauernmoo
 r\nhttps://touren-termine.adfc.de/radveranstaltung/172229-jahresabschluss
 fahrt
DTEND:20251003T160000Z
DTSTAMP:20260423T201709Z
DTSTART:20251003T080000Z
LOCATION:Am Pferdemarkt\, 27356 Rotenburg
SEQUENCE:0
SUMMARY:Jahresabschlussfahrt
UID:57d75261-2462-4e38-9296-b231e37e6ae0
URL:https://touren-termine.adfc.de/radveranstaltung/172229-jahresabschluss
 fahrt
END:VEVENT
END:VCALENDAR
