BEGIN:VCALENDAR
PRODID:-//github.com/rianjs/ical.net//NONSGML ical.net 4.0//EN
VERSION:2.0
BEGIN:VEVENT
DESCRIPTION:Leichte bis mittelschwere Feierabendtour in und um Vaihingen\n
 https://touren-termine.adfc.de/radveranstaltung/95391-vaihinger-abendtour
DTEND:20230803T190000Z
DTSTAMP:20260424T143421Z
DTSTART:20230803T160000Z
LOCATION:Vollmoellerstraße\, 70563 Stuttgart
SEQUENCE:0
SUMMARY:Vaihinger Abendtour
UID:c2426996-faf9-4b98-b3fd-807776052be4
URL:https://touren-termine.adfc.de/radveranstaltung/95391-vaihinger-abendt
 our
END:VEVENT
END:VCALENDAR
