BEGIN:VCALENDAR
PRODID:-//github.com/rianjs/ical.net//NONSGML ical.net 4.0//EN
VERSION:2.0
BEGIN:VEVENT
DESCRIPTION:Eine 3-stündige Radtour in der nahen Umgebung und ein gemeinsa
 mes\, gemütliches Picknick unter alten Lindenbäume ist diesem Tag gewidme
 t.\nhttps://touren-termine.adfc.de/radveranstaltung/136480-picknick-unter
 -den-linden
DTEND:20250518T143000Z
DTSTAMP:20260424T231125Z
DTSTART:20250518T080000Z
LOCATION:Schauturm im LGS-Gelände\, Dr.-Kurz-Str.\,\, 92318 Neumarkt in de
 r Oberpfalz
SEQUENCE:0
SUMMARY:Picknick unter den Linden
UID:ebc39b45-e29e-40cf-84a3-e8b0480ec1bd
URL:https://touren-termine.adfc.de/radveranstaltung/136480-picknick-unter-
 den-linden
END:VEVENT
END:VCALENDAR
