BEGIN:VCALENDAR
PRODID:-//github.com/rianjs/ical.net//NONSGML ical.net 4.0//EN
VERSION:2.0
BEGIN:VEVENT
DESCRIPTION:Im Rahmen der vierten Tour entdecken wir den "Terrassenfriedho
 f"\nhttps://touren-termine.adfc.de/radveranstaltung/151697-essen-jenseits
 -die-friedhofe-unserer-stadt-4
DTEND:20250315T170000Z
DTSTAMP:20260421T102652Z
DTSTART:20250315T120000Z
LOCATION:Kopstadtplatz\, 45127 Essen
SEQUENCE:0
SUMMARY:"Essen jenseits" – die Friedhöfe unserer Stadt #4
UID:f3c129f6-f636-4330-bae2-47ce50e5e155
URL:https://touren-termine.adfc.de/radveranstaltung/151697-essen-jenseits-
 die-friedhofe-unserer-stadt-4
END:VEVENT
END:VCALENDAR
