BEGIN:VCALENDAR
PRODID:-//github.com/rianjs/ical.net//NONSGML ical.net 4.0//EN
VERSION:2.0
BEGIN:VEVENT
DESCRIPTION:Lernt mit uns die Freiheit des Fahrradfahrens kennen. Gemeinsa
 m üben wir das Fahren und Bremsen und die Verkehrsregeln. - Details und A
 nmeldung für 11-13 Uhr o. 13:30-15:30 Uhr siehe Beschreibung\nhttps://tou
 ren-termine.adfc.de/radveranstaltung/135214-frauenfahrradschule-mit-spass
 -radfahren-lernen
DTEND:20240713T140000Z
DTSTAMP:20260424T050635Z
DTSTART:20240713T090000Z
LOCATION:Jugendverkehrsschule\, Baikalstraße 4\, 10319 Berlin
SEQUENCE:0
SUMMARY:FrauenFahrradSchule: mit Spaß Radfahren lernen
UID:0b083a08-61e9-47c5-9e57-148178f5cb8b
URL:https://touren-termine.adfc.de/radveranstaltung/135214-frauenfahrradsc
 hule-mit-spass-radfahren-lernen
END:VEVENT
END:VCALENDAR
