BEGIN:VCALENDAR
PRODID:-//github.com/rianjs/ical.net//NONSGML ical.net 4.0//EN
VERSION:2.0
BEGIN:VEVENT
DESCRIPTION:Leichte Mittagstour ab Haßloch\nhttps://touren-termine.adfc.de
 /radveranstaltung/181660-mittagstour-ab-hassloch
DTEND:20260602T120000Z
DTSTAMP:20260425T141738Z
DTSTART:20260602T090000Z
LOCATION:Rathausplatz\, 67454 Haßloch
SEQUENCE:0
SUMMARY:Mittagstour ab Haßloch
UID:9b269ed4-7186-47e1-aa25-06c040bd96c2
URL:https://touren-termine.adfc.de/radveranstaltung/181660-mittagstour-ab-
 hassloch
END:VEVENT
END:VCALENDAR
