BEGIN:VCALENDAR
PRODID:-//github.com/rianjs/ical.net//NONSGML ical.net 4.0//EN
VERSION:2.0
BEGIN:VEVENT
DESCRIPTION:Mit dem Pedelec über den Eichenhof (Bioeinkauf) zum Abendessen
  auf den Kindelsberg. Im Dunkeln auf flachen Waldwegen zurück ins Tal.  A
 uf intakte Lichtanlage achten! Teilnehmeranmeldung bis 24.09.2025\nhttps:
 //touren-termine.adfc.de/radveranstaltung/149769-feierabendabschlusstour-
 kindelsberg-pedelec
DTEND:20250925T193000Z
DTSTAMP:20260422T234415Z
DTSTART:20250925T160000Z
LOCATION:Marburgerstraße\, Roter Platz\, 57223 Kreuztal
SEQUENCE:0
SUMMARY:Feierabendabschlusstour Kindelsberg (Pedelec)
UID:c6bc1e34-ee1d-490b-992c-24000c117844
URL:https://touren-termine.adfc.de/radveranstaltung/149769-feierabendabsch
 lusstour-kindelsberg-pedelec
END:VEVENT
END:VCALENDAR
