BEGIN:VCALENDAR
PRODID:-//github.com/rianjs/ical.net//NONSGML ical.net 4.0//EN
VERSION:2.0
BEGIN:VEVENT
DESCRIPTION:Über den Pfeffertshofer Berg radeln wir nach Frickenhofen zur 
 Flammstube im ehemaligen Kuhstall. Ich bitte um rechtzeitige Anmeldung!\n
 https://touren-termine.adfc.de/radveranstaltung/170170-zur-flammstube-rad
 eln
DTEND:20250911T190000Z
DTSTAMP:20260424T231310Z
DTSTART:20250911T150000Z
LOCATION:Schauturm im LGS-Gelände\, Dr.-Kurz-Str.\,\, 92318 Neumarkt in de
 r Oberpfalz
SEQUENCE:0
SUMMARY:Zur Flammstube Radeln
UID:0fae0b66-fab8-4181-aa35-0e140a83b8a0
URL:https://touren-termine.adfc.de/radveranstaltung/170170-zur-flammstube-
 radeln
END:VEVENT
END:VCALENDAR
