BEGIN:VCALENDAR
PRODID:-//github.com/rianjs/ical.net//NONSGML ical.net 4.0//EN
VERSION:2.0
BEGIN:VEVENT
DESCRIPTION:Radtour durch Leverkusen und Umgebung mit 25 max. Teilnehmern.
 \nAnmeldung zwingend erforderlich!\nhttps://touren-termine.adfc.de/radver
 anstaltung/88074-vormittagsradtour-leverkusen
DTEND:20230606T110000Z
DTSTAMP:20260421T121452Z
DTSTART:20230606T080000Z
LOCATION:Tannenbergstraße\, unter der Stelzenautobahn\, 51373 Leverkusen
SEQUENCE:0
SUMMARY:Vormittagsradtour Leverkusen
UID:6b89336e-e7a8-4000-858b-ba769c0327c8
URL:https://touren-termine.adfc.de/radveranstaltung/88074-vormittagsradtou
 r-leverkusen
END:VEVENT
END:VCALENDAR
