BEGIN:VCALENDAR
PRODID:-//github.com/rianjs/ical.net//NONSGML ical.net 4.0//EN
VERSION:2.0
BEGIN:VEVENT
DESCRIPTION:Wir radeln zu den Externsteinen\, als „Tour de Natur“\, auf Fe
 ld- und Waldwegen\, abseits von großen Straßen. Zurück geht es über Stein
 heim\, dann mit der S-Bahn nach Hameln (Fahrradkarte erf.)!\nhttps://tour
 en-termine.adfc.de/radveranstaltung/149525-auf-zu-den-extersteinen
DTEND:20250726T162000Z
DTSTAMP:20260423T140639Z
DTSTART:20250726T070000Z
LOCATION:Pfortmühle an der blauen Brücke\,\, 31785 Hameln
SEQUENCE:0
SUMMARY:Auf zu den Extersteinen
UID:8cb5b088-3f93-4331-81ba-6386e9a68f7e
URL:https://touren-termine.adfc.de/radveranstaltung/149525-auf-zu-den-exte
 rsteinen
END:VEVENT
END:VCALENDAR
