BEGIN:VCALENDAR
PRODID:-//github.com/rianjs/ical.net//NONSGML ical.net 4.0//EN
VERSION:2.0
BEGIN:VEVENT
DESCRIPTION:Regelmäßige Tagestour mit Start in Gauting zu einem naturkundl
 ich\, (kunst-) historisch oder tagesaktuell interessanten Ziel im Südwest
 en von München.\nHeute: Zur längsten Floßrutsche Deutschlands\nhttps://to
 uren-termine.adfc.de/radveranstaltung/154352-unterwegs-im-sudwesten
DTEND:20250619T150000Z
DTSTAMP:20260425T150906Z
DTSTART:20250619T080000Z
LOCATION:Rathaus\, Bahnhofstraße 7\, 82131 Gauting
SEQUENCE:0
SUMMARY:Unterwegs im Südwesten
UID:a376a6e8-7a5a-4544-b6b8-a999eb2a80d4
URL:https://touren-termine.adfc.de/radveranstaltung/154352-unterwegs-im-su
 dwesten
END:VEVENT
END:VCALENDAR
