BEGIN:VCALENDAR
PRODID:-//github.com/rianjs/ical.net//NONSGML ical.net 4.0//EN
VERSION:2.0
BEGIN:VEVENT
DESCRIPTION:Dienstags & Donnerstags zwischen 18:00 und 20:00 Uhr kann dort
  jeder\, sein Fahrrad eigenverantwortlich selbst reparieren - wenn nötig 
 unter Anleitung oder Mithilfe unsere Werkstattteams\nhttps://touren-termi
 ne.adfc.de/radveranstaltung/90946-selbsthilfewerkstatt-ist-geoffnet
DTEND:20231116T190000Z
DTSTAMP:20260424T151743Z
DTSTART:20231116T170000Z
LOCATION:Weinweg 6\, 93049 Regensburg
SEQUENCE:0
SUMMARY:Selbsthilfewerkstatt ist geöffnet
UID:c1226088-6742-4342-98bd-cecef91f26d2
URL:https://touren-termine.adfc.de/radveranstaltung/90946-selbsthilfewerks
 tatt-ist-geoffnet
END:VEVENT
END:VCALENDAR
