BEGIN:VCALENDAR
PRODID:-//github.com/rianjs/ical.net//NONSGML ical.net 4.0//EN
VERSION:2.0
BEGIN:VEVENT
DESCRIPTION:Mit den Pedelecs durchs Heestal nach Hünsborn. Über die schöne
 n Radwege nach Ottfingen. Zurück über die Dörnschlade und den Golfplatz. 
 Einkehr möglich.\nhttps://touren-termine.adfc.de/radveranstaltung/147426-
 feierabendtour-nach-ottfingen-pedelec
DTEND:20250417T190000Z
DTSTAMP:20260422T234319Z
DTSTART:20250417T160000Z
LOCATION:Marburgerstraße\, Roter Platz\, 57223 Kreuztal
SEQUENCE:0
SUMMARY:Feierabendtour nach Ottfingen (Pedelec)
UID:84434e1c-e2b3-4899-92c3-56e72423513b
URL:https://touren-termine.adfc.de/radveranstaltung/147426-feierabendtour-
 nach-ottfingen-pedelec
END:VEVENT
END:VCALENDAR
