BEGIN:VCALENDAR
PRODID:-//github.com/rianjs/ical.net//NONSGML ical.net 4.0//EN
VERSION:2.0
BEGIN:VEVENT
DESCRIPTION:Die Bezirksgruppe Altona setzt sich für den Radverkehr in alle
 n Straßen und Stadtteilen von Rissen bis Sternschanze ein.\nhttps://toure
 n-termine.adfc.de/radveranstaltung/132565-bezirksgruppe-altona
DTEND:20250917T190000Z
DTSTAMP:20260420T230945Z
DTSTART:20250917T170000Z
LOCATION:Flavour Court im Othmarscher Tennis-Club\, 22763 Hamburg\, Othmar
 schen
SEQUENCE:0
SUMMARY:Bezirksgruppe Altona
UID:d384d75e-8aa4-4bb2-893c-b3f1ec3b2810
URL:https://touren-termine.adfc.de/radveranstaltung/132565-bezirksgruppe-a
 ltona
END:VEVENT
END:VCALENDAR
