BEGIN:VCALENDAR
PRODID:-//github.com/rianjs/ical.net//NONSGML ical.net 4.0//EN
VERSION:2.0
BEGIN:VEVENT
DESCRIPTION:Von Stadthagen geht es über  Wiedensahl\, Seelefeld nach Heims
 en.\nDanach weiter über Wasserstrasse nach Leese zum kleinen Maschsee.\nD
 ie Rückfahrt erfolgt Loccum\, Wiedensahl und Pollhagen.\nhttps://touren-t
 ermine.adfc.de/radveranstaltung/143865-kleiner-maschsee-in-leese
DTEND:20250511T153000Z
DTSTAMP:20260420T173605Z
DTSTART:20250511T080000Z
LOCATION:Marktplatz \,Marktbrunnen\, 31655 Stadthagen
SEQUENCE:0
SUMMARY:Kleiner Maschsee in Leese
UID:743cbf9f-61b3-40ff-855d-a85cc59c2b90
URL:https://touren-termine.adfc.de/radveranstaltung/143865-kleiner-maschse
 e-in-leese
END:VEVENT
END:VCALENDAR
