BEGIN:VCALENDAR
PRODID:-//github.com/rianjs/ical.net//NONSGML ical.net 4.0//EN
VERSION:2.0
BEGIN:VEVENT
DESCRIPTION:Öffentlicher Stammtisch des Kreisverbandes Kempten-Oberallgäu\
 nhttps://touren-termine.adfc.de/radveranstaltung/159526-radlerstammtisch-
 in-kempten
DTEND:20250515T200000Z
DTSTAMP:20260424T152511Z
DTSTART:20250515T180000Z
LOCATION:swoboda alpin\, Aybühlweg 69\, 87439 Kempten (Allgäu)
SEQUENCE:0
SUMMARY:Radlerstammtisch in Kempten
UID:47cf4d9c-6b53-482c-b3a6-3cf41ff21693
URL:https://touren-termine.adfc.de/radveranstaltung/159526-radlerstammtisc
 h-in-kempten
END:VEVENT
END:VCALENDAR
