BEGIN:VCALENDAR
PRODID:-//github.com/rianjs/ical.net//NONSGML ical.net 4.0//EN
VERSION:2.0
BEGIN:VEVENT
DESCRIPTION:Grundkurs zur ADFC-Zertifizierung "TourGuide"\nhttps://touren-
 termine.adfc.de/radveranstaltung/184723-adfctourguideseminar-essen-15-17-
 mai-2026
DTEND:20260517T120000Z
DTSTAMP:20260421T102410Z
DTSTART:20260515T130000Z
LOCATION:Essen (Innenstadt)\, ADFC Essen Geschäftsstelle\, Rottstraße 5\, 
 45127 Essen
SEQUENCE:0
SUMMARY:ADFC-TourGuide-Seminar Essen 15. - 17. Mai 2026
UID:bce6619b-c0ba-4bad-abf0-c092e3a88277
URL:https://touren-termine.adfc.de/radveranstaltung/184723-adfctourguidese
 minar-essen-15-17-mai-2026
END:VEVENT
END:VCALENDAR
