BEGIN:VCALENDAR
PRODID:-//github.com/rianjs/ical.net//NONSGML ical.net 4.0//EN
VERSION:2.0
BEGIN:VEVENT
DESCRIPTION:Die Radtour zeigt\, wie sich die Stadt Bingen den Herausforder
 ungen des Klimawandels stellt.\nhttps://touren-termine.adfc.de/radveranst
 altung/93593-radtour-zu-klimaschutzprojekten-in-bingen
DTEND:20230603T110000Z
DTSTAMP:20260421T160456Z
DTSTART:20230603T080000Z
LOCATION:Gaustraße 20\, 55411 Bingen am Rhein
SEQUENCE:0
SUMMARY:Radtour zu Klimaschutzprojekten in Bingen
UID:ab18a892-f13f-4295-b6ff-e8189e2cb9ba
URL:https://touren-termine.adfc.de/radveranstaltung/93593-radtour-zu-klima
 schutzprojekten-in-bingen
END:VEVENT
END:VCALENDAR
