BEGIN:VCALENDAR
PRODID:-//github.com/rianjs/ical.net//NONSGML ical.net 4.0//EN
VERSION:2.0
BEGIN:VEVENT
DESCRIPTION:Während in Berlin die Frauen gefeiert werden\, wollen wir -und
  nicht nur Frauen- uns sportlich bewegen und zur Belohnung ggf. auswärts 
 shoppen.\nhttps://touren-termine.adfc.de/radveranstaltung/148767-ladykrac
 her
DTEND:20250308T170000Z
DTSTAMP:20260424T214341Z
DTSTART:20250308T090000Z
LOCATION:Berlin Hauptbahnhof\, Ausgang Washingtonplatz\, 10557 Berlin
SEQUENCE:0
SUMMARY:Ladykracher
UID:87d73e7d-0649-4df5-8a58-4e383acc2b48
URL:https://touren-termine.adfc.de/radveranstaltung/148767-ladykracher
END:VEVENT
END:VCALENDAR
