BEGIN:VCALENDAR
PRODID:-//github.com/rianjs/ical.net//NONSGML ical.net 4.0//EN
VERSION:2.0
BEGIN:VEVENT
DESCRIPTION:In gemütlicher Runde plaudern Radfahrbegeisterte über Touren\,
  Technik\, Verkehr usw.. Gäste sind herzlich eingeladen.\nhttps://touren-
 termine.adfc.de/radveranstaltung/152205-monatliches-treffen-april-thaers-
 wirtshaus
DTEND:20250402T180000Z
DTSTAMP:20260421T184948Z
DTSTART:20250402T163000Z
LOCATION:Thaerplatz 1\, 29221 Celle
SEQUENCE:0
SUMMARY:Monatliches Treffen\, April (Thaers Wirtshaus)
UID:475ca24c-e4e7-4305-8bed-719ec382f66f
URL:https://touren-termine.adfc.de/radveranstaltung/152205-monatliches-tre
 ffen-april-thaers-wirtshaus
END:VEVENT
END:VCALENDAR
