BEGIN:VCALENDAR
PRODID:-//github.com/rianjs/ical.net//NONSGML ical.net 4.0//EN
VERSION:2.0
BEGIN:VEVENT
DESCRIPTION:Du willst die Radfahrsituation in Korschenbroich verbessern? D
 ann bist du hier richtig.\nhttps://touren-termine.adfc.de/radveranstaltun
 g/171510-arbeitskreis-mobilitat-und-sicherheit
DTEND:20251030T193000Z
DTSTAMP:20260423T151753Z
DTSTART:20251030T173000Z
LOCATION:Gymnasium Korschenbroich\, Container-Gebäude\, Don-Bosco-Str./Hug
 o-Kamper-Gasse\, 41352 Korschenbroich
SEQUENCE:0
SUMMARY:Arbeitskreis Mobilität und Sicherheit
UID:7bb2697f-5ce5-440d-be11-6d09b12b13bf
URL:https://touren-termine.adfc.de/radveranstaltung/171510-arbeitskreis-mo
 bilitat-und-sicherheit
END:VEVENT
END:VCALENDAR
