BEGIN:VCALENDAR
PRODID:-//github.com/rianjs/ical.net//NONSGML ical.net 4.0//EN
VERSION:2.0
BEGIN:VEVENT
DESCRIPTION:Die von der FUgE e.V. Hamm veranstaltete Messe möchte Menschen
  zusammenbringen\, die von dem Thema Nachhaltigkeit begeistert sind oder 
 sich begeistern lassen möchten.\nhttps://touren-termine.adfc.de/radverans
 taltung/155981-mitmachmesse-fur-mehr-nachhaltigkeit
DTEND:20250222T150000Z
DTSTAMP:20260421T235910Z
DTSTART:20250222T090000Z
LOCATION:Willy-Brandt-Platz\, 59065 Hamm
SEQUENCE:0
SUMMARY:Mitmach-Messe für mehr Nachhaltigkeit
UID:a008696e-34bf-4193-ab1b-ed7509ec4996
URL:https://touren-termine.adfc.de/radveranstaltung/155981-mitmachmesse-fu
 r-mehr-nachhaltigkeit
END:VEVENT
END:VCALENDAR
