BEGIN:VCALENDAR
PRODID:-//github.com/rianjs/ical.net//NONSGML ical.net 4.0//EN
VERSION:2.0
BEGIN:VEVENT
DESCRIPTION:Der Mountainbikeklassiker im Naturpark Stromberg-Heuchelberg: 
 Auf wenig befahrenen Trails geht es über die Höhen des Strombergs\, von w
 o aus wir Natur und Ausblicke in die Ferne genießen.\nhttps://touren-term
 ine.adfc.de/radveranstaltung/114789-der-strombergrennweg-im-fruhling
DTEND:20240421T150000Z
DTSTAMP:20260425T194146Z
DTSTART:20240421T070000Z
LOCATION:Kuhriosum (Kronenplatz)\, 74321 Bietigheim-Bissingen
SEQUENCE:0
SUMMARY:Der Stromberg-Rennweg im Frühling
UID:8d587f08-8449-4cd5-8737-c9cc5b23a49b
URL:https://touren-termine.adfc.de/radveranstaltung/114789-der-strombergre
 nnweg-im-fruhling
END:VEVENT
END:VCALENDAR
