BEGIN:VCALENDAR
PRODID:-//github.com/rianjs/ical.net//NONSGML ical.net 4.0//EN
VERSION:2.0
BEGIN:VEVENT
DESCRIPTION:Lengenwang - Theorie sowie praktische Übungen für eine sichere
  Fahrtechnik wie Anfahren\, Bremsverhalten\, Bergabfahrten. Hilfreiche Ti
 pps zur Elektronik\, Akku-Behandlung.\nhttps://touren-termine.adfc.de/rad
 veranstaltung/114835-fahrsicherheitstraining-grundkurs-etourenrad
DTEND:20240510T150000Z
DTSTAMP:20260419T174357Z
DTSTART:20240510T120000Z
LOCATION:Sportplatz Außerlengenwang\, 87663 Landkreis Ostallgäu
SEQUENCE:0
SUMMARY:Fahrsicherheitstraining Grundkurs E-Tourenrad
UID:dc1df37b-5c4e-437a-81b8-550180a03f84
URL:https://touren-termine.adfc.de/radveranstaltung/114835-fahrsicherheits
 training-grundkurs-etourenrad
END:VEVENT
END:VCALENDAR
