BEGIN:VCALENDAR
PRODID:-//github.com/rianjs/ical.net//NONSGML ical.net 4.0//EN
VERSION:2.0
BEGIN:VEVENT
DESCRIPTION:Von Stadthagen geht es über Lüdersfeld\, Sachsenhagen\, Idense
 n\, Bokeloh und Klein Heidorn zum Fliegerhorst in Wunstorf. Besichtigung 
 der Exponate der Fluggeschichte in der Halle möglich.\nhttps://touren-ter
 mine.adfc.de/radveranstaltung/158912-radtour-zur-ju52halle-am-fliegerhors
 t-wunstorf
DTEND:20250601T150000Z
DTSTAMP:20260420T175828Z
DTSTART:20250601T080000Z
LOCATION:Marktplatz \,Marktbrunnen\, 31655 Stadthagen
SEQUENCE:0
SUMMARY:Radtour zur JU52-Halle  am Fliegerhorst\, Wunstorf
UID:1ca45b08-b08b-4c49-bb6e-1a7cca27e2e9
URL:https://touren-termine.adfc.de/radveranstaltung/158912-radtour-zur-ju5
 2halle-am-fliegerhorst-wunstorf
END:VEVENT
END:VCALENDAR
