BEGIN:VCALENDAR
PRODID:-//github.com/rianjs/ical.net//NONSGML ical.net 4.0//EN
VERSION:2.0
BEGIN:VEVENT
DESCRIPTION:Zum Abschluss des „Mittwochsradeln`s 2026“ wird es eine Überra
 schungstour geben!!!!\nhttps://touren-termine.adfc.de/radveranstaltung/17
 8539-abschlusstour-mittwochsradeln
DTEND:20260826T150000Z
DTSTAMP:20260420T173352Z
DTSTART:20260826T080000Z
LOCATION:Marktplatz \,Marktbrunnen\, 31655 Stadthagen
SEQUENCE:0
SUMMARY:Abschlusstour Mittwochs-Radeln
UID:b1267509-6912-46f9-b9b2-4be4f8300459
URL:https://touren-termine.adfc.de/radveranstaltung/178539-abschlusstour-m
 ittwochsradeln
END:VEVENT
END:VCALENDAR
