BEGIN:VCALENDAR
PRODID:-//github.com/rianjs/ical.net//NONSGML ical.net 4.0//EN
VERSION:2.0
BEGIN:VEVENT
DESCRIPTION:Der ADFC Wuppertal / Solingen betreibt einen Stand zur Verkehr
 swende. eine Fahrradcodierung wird auch angeboten.\nhttps://touren-termin
 e.adfc.de/radveranstaltung/190105-aktionsstand-zum-fruhlingserwachen
DTEND:20260329T140000Z
DTSTAMP:20260421T210433Z
DTSTART:20260329T090000Z
LOCATION:Marktplatz Ohligs\, 42697 Solingen
SEQUENCE:0
SUMMARY:Aktionsstand zum Frühlingserwachen
UID:a52e0b7a-7ad5-41ea-8aa6-3c9315aea9b2
URL:https://touren-termine.adfc.de/radveranstaltung/190105-aktionsstand-zu
 m-fruhlingserwachen
END:VEVENT
END:VCALENDAR
