BEGIN:VCALENDAR
PRODID:-//github.com/rianjs/ical.net//NONSGML ical.net 4.0//EN
VERSION:2.0
BEGIN:VEVENT
DESCRIPTION:Auf gehts zur Obstpanorama-Tour. Wir wenden uns mit unseren To
 uren vor allem an Menschen\, die sich der LGBTQIA+ Community zugehörig fü
 hlen.\nhttps://touren-termine.adfc.de/radveranstaltung/162351-queernetzwe
 rktour
DTEND:20250427T150000Z
DTSTAMP:20260423T064950Z
DTSTART:20250427T090000Z
LOCATION:Potsdam Hbf\, Ausgang Babelsberger Str.\, 14473 Potsdam
SEQUENCE:0
SUMMARY:QUEER-Netzwerktour
UID:4f7b9c29-12f6-487f-9114-cae81c2ece87
URL:https://touren-termine.adfc.de/radveranstaltung/162351-queernetzwerkto
 ur
END:VEVENT
END:VCALENDAR
