BEGIN:VCALENDAR
PRODID:-//github.com/rianjs/ical.net//NONSGML ical.net 4.0//EN
VERSION:2.0
BEGIN:VEVENT
DESCRIPTION:Die Bezirksgruppe Altona setzt sich für den Radverkehr in alle
 n Straßen und Stadtteilen von Rissen bis Sternschanze ein.\nhttps://toure
 n-termine.adfc.de/radveranstaltung/102947-bezirksgruppe-altona
DTEND:20240117T200000Z
DTSTAMP:20260420T231012Z
DTSTART:20240117T180000Z
LOCATION:Flavour Court im Othmarscher Tennis-Club\, 22763 Hamburg\, Othmar
 schen
SEQUENCE:0
SUMMARY:Bezirksgruppe Altona
UID:8097c25d-9448-439c-8d2c-5ade14472498
URL:https://touren-termine.adfc.de/radveranstaltung/102947-bezirksgruppe-a
 ltona
END:VEVENT
END:VCALENDAR
