BEGIN:VCALENDAR
PRODID:-//github.com/rianjs/ical.net//NONSGML ical.net 4.0//EN
VERSION:2.0
BEGIN:VEVENT
DESCRIPTION:Dienstags & Donnerstags zwischen 18:00 und 20:00 Uhr kann dort
  jeder\, sein Fahrrad eigenverantwortlich selbst reparieren - wenn nötig 
 unter Anleitung oder Mithilfe unsere Werkstattteams\nhttps://touren-termi
 ne.adfc.de/radveranstaltung/165997-selbsthilfewerkstatt-ist-geoffnet
DTEND:20250930T180000Z
DTSTAMP:20260424T144954Z
DTSTART:20250930T160000Z
LOCATION:ADFC-Selbsthilfewerkstatt\, Weinweg 2\, 93049 Regensburg
SEQUENCE:0
SUMMARY:Selbsthilfewerkstatt ist geöffnet
UID:7d653dcf-3acd-4b30-85e1-8f90ebef811f
URL:https://touren-termine.adfc.de/radveranstaltung/165997-selbsthilfewerk
 statt-ist-geoffnet
END:VEVENT
END:VCALENDAR
