BEGIN:VCALENDAR
PRODID:-//github.com/rianjs/ical.net//NONSGML ical.net 4.0//EN
VERSION:2.0
BEGIN:VEVENT
DESCRIPTION:Strecke: Rotenburg\, Schwarzenhasel\, Königswald\, Bischhausen
 \, Sontra\, Dens\, Solz\, Bebra\, Rotenburg.\nhttps://touren-termine.adfc
 .de/radveranstaltung/121827-zwischen-rotenburg-und-werrameissner
DTEND:20240623T150000Z
DTSTAMP:20260421T132133Z
DTSTART:20240623T080000Z
LOCATION:Bahnhof Rotenburg an der Fulda\, 36199 Rotenburg an der Fulda
SEQUENCE:0
SUMMARY:Zwischen Rotenburg und Werra-Meißner
UID:25284350-46c0-41b2-bb8b-a5fd3b022e48
URL:https://touren-termine.adfc.de/radveranstaltung/121827-zwischen-rotenb
 urg-und-werrameissner
END:VEVENT
END:VCALENDAR
